BEGIN:VCALENDAR
PRODID:-//kirchenweb.ch gmbh//veranstaltungsausgabe v2.0//DE
VERSION:2.0
METHOD:PUBLISH
BEGIN:VEVENT
DTSTART:20251214T160000Z
DTEND:20251214T170000Z
LOCATION:Kirche Muri\, Thunstrasse 98\, 3074 Muri
TRANSP:OPAQUE
SEQUENCE:0
UID:46912-veranstaltung@rkmg.ch
DTSTAMP:20251119T121834Z
DESCRIPTION:Gemeinsam mit den Singfonikern Muri-Gümligen singen wir
  Lieder nach Wunsch unserer Teilnehmenden. Mit Chorleiter Christoph Adrian
  Kuhn und Jacques Pasquier am Klavier.\nAnschliessend: Adventlicher
  Umtrunk im Kirchgemeindehaus.\nKlein und Gross sind herzlich dazu
  eingeladen! \n\nWir freuen uns auf Ihr Kommen!\n\nKontakt: Pascal-Olivier
  Ramelet\n\nWeitere Infos: https://www.rkmg.ch/veranstaltung/46912
SUMMARY:Offenes Adventssingen mit Singfonikern
PRIORITY:5
X-MICROSOFT-CDO-IMPORTANCE:1
CLASS:PUBLIC
END:VEVENT
END:VCALENDAR
