BEGIN:VCALENDAR
PRODID:-//kirchenweb.ch gmbh//veranstaltungsausgabe v2.0//DE
VERSION:2.0
METHOD:PUBLISH
BEGIN:VEVENT
DTSTART:20250506T123000Z
DTEND:20250506T143000Z
LOCATION:Kirchgemeindehaus Gümligen\, Dorfstrasse 76\, 3073 Gümligen
TRANSP:OPAQUE
SEQUENCE:0
UID:45795-veranstaltung@rkmg.ch
DTSTAMP:20250331T111751Z
DESCRIPTION:Licht und Schatten einer Zeit - eine Zeit\, die schon längst
  vorbei ist. Durch die Erzählungen von Christine Baumgartner wird sie
  wieder lebendig. Hautnah erleben wir die Geschichte von Hanni und Peter\,
  Bertha und Lisette von der Post. Nein\, früher war nicht alles besser\,
  aber anders.\nDie Autorin erzählt die Geschichte ihrer Eltern anhand von
  alten Briefen. Es sind Erzählungen\, die berühren\, die in ihrer
  unverwechselbaren Sprache wieder lebendig werden. Eine wunderbare
  Liebesgeschichte eines „Postfräuleins“ und ihres Geliebten.\n
 \nKontakt: Stephan Kormann\n\nWeitere Infos:
  https://www.rkmg.ch/veranstaltung/45795
SUMMARY:Café mit ... Christine Baumgartner-Hofer
PRIORITY:5
X-MICROSOFT-CDO-IMPORTANCE:1
CLASS:PUBLIC
END:VEVENT
END:VCALENDAR
