BEGIN:VCALENDAR
PRODID:-//kirchenweb.ch gmbh//veranstaltungsausgabe v2.0//DE
VERSION:2.0
METHOD:PUBLISH
BEGIN:VEVENT
DTSTART:20250108T130000Z
DTEND:20250108T160000Z
LOCATION:Thoracherhus\, Kranichweg 10\, 3074 Muri
TRANSP:OPAQUE
SEQUENCE:0
UID:45520-veranstaltung@rkmg.ch
DTSTAMP:20241217T065002Z
DESCRIPTION:Im Werkatelier kannst du  1–2 mal im Monat\, an einem
  Mittwochnachmittag  deine Kreativität ausleben und mit unterschiedlichen
  Materialien experimentieren\, werken und gestalten.\n\nTöpferecke \nWenn
  du gerne töpferst\, kannst du nach einer Einführung durch die
  KreA-Leitung tolle Sachen aus Ton herstellen. Für Getöpfertes braucht
  es Geduld. Es muss trocknen\, glasiert und gebrannt werden. Freue dich
  auf deine schönen Töpfersachen\, das Warten wird sich lohnen!\n\nDas
  KreA kostet pro Kind und Nachmittag CHF 5. Für ein zVieri ist gesorgt.\n
 \nKontakt: \n\nWeitere Infos: https://www.rkmg.ch/veranstaltung/45520
SUMMARY:KreA - das kreative Atelier
PRIORITY:5
X-MICROSOFT-CDO-IMPORTANCE:1
CLASS:PUBLIC
END:VEVENT
END:VCALENDAR
