BEGIN:VCALENDAR
PRODID:-//kirchenweb.ch gmbh//veranstaltungsausgabe v2.0//DE
VERSION:2.0
METHOD:PUBLISH
BEGIN:VEVENT
DTSTART:20250215T090000Z
DTEND:20250215T140000Z
LOCATION:Thoracherhus\, Kranichweg 10\, 3074 Muri
TRANSP:OPAQUE
SEQUENCE:0
UID:45372-veranstaltung@rkmg.ch
DTSTAMP:20250217T085446Z
DESCRIPTION:Heute ist Flohmarkt / Gänggelimärit für Klein und Gross im
  Thoracherhus.\n\nALLE TISCHE SIND GEBUCHT!\n\nFür die Kleinen: Ihr
  könnt eure Spielsachen\, Bücher\, etc\, verkaufen kommen. Die Teilnahme
  ist für euch kostenlos. Meldet euch an!\nBring die Sachen mit\, die du
  gerne verkaufen möchtest\, sowie ein Tuch; darauf kannst du deine Sachen
  ausstellen.\n\nFür die Grossen: Bitte melde dich auf dieser Seite an.
  Ein Tisch kostet 10.-. Die Tischgrösse beträgt 75cm x 150cm. Gib bei
  der Reservierung an\, ob du 1 oder 2 Tische möchtest. \nWir freuen uns
  über deine Teilnahme. Ab 9h kannst du im Thoracher aufstellen kommen. 
 \nWichtig!: Die Sachen\, die nicht verkauft worden sind\, müssen von den
  Teilnehmer:innen wieder mit nach Hause genommen werden. Danke!\n\nAn
  diesem Tag hat auch das Müze geöffnet. Ihr könnt euch also gerne an
  der Cafeteria etwas zum Knabbern oder Trinken holen. Am Mittag wird es
  einen kleinen Snack geben. Auch das Spielzimmer für die ganz Kleinen hat
  geöffnet. \n\nWir freuen uns auf euch!\n\nKontakt: \n\nWeitere Infos:
  https://www.rkmg.ch/veranstaltung/45372
SUMMARY:Flohmarkt / Gänggelimärit für Klein und Gross
PRIORITY:5
X-MICROSOFT-CDO-IMPORTANCE:1
CLASS:PUBLIC
END:VEVENT
END:VCALENDAR
