BEGIN:VCALENDAR
PRODID:-//kirchenweb.ch gmbh//veranstaltungsausgabe v2.0//DE
VERSION:2.0
METHOD:PUBLISH
BEGIN:VEVENT
DTSTART:20250209T090000Z
DTEND:20250209T100000Z
LOCATION:Kirche Gümligen\, Dorfstrasse 76\, 3073 Gümligen
TRANSP:OPAQUE
SEQUENCE:0
UID:45262-veranstaltung@rkmg.ch
DTSTAMP:20241219T152508Z
DESCRIPTION:Kontakt: Pascal-Olivier Ramelet\n\nWeitere Infos:
  https://www.rkmg.ch/veranstaltung/45262
SUMMARY:Gottesdienst in der Kirche Gümligen (Pascal-Olivier Ramelet)
PRIORITY:5
X-MICROSOFT-CDO-IMPORTANCE:1
CLASS:PUBLIC
END:VEVENT
END:VCALENDAR
