BEGIN:VCALENDAR
PRODID:-//kirchenweb.ch gmbh//veranstaltungsausgabe v2.0//DE
VERSION:2.0
METHOD:PUBLISH
BEGIN:VEVENT
DTSTART:20250630T054500Z
DTEND:20250630T061500Z
LOCATION:Kirche Muri\, Thunstrasse 98\, 3074 Muri
TRANSP:OPAQUE
SEQUENCE:0
UID:45175-veranstaltung@rkmg.ch
DTSTAMP:20250611T121952Z
DESCRIPTION:Kontakt: pascal.ramelet@rkmg.ch\n\nWeitere Infos:
  https://www.rkmg.ch/veranstaltung/45175
SUMMARY:Amtswoche (Mathias Wirth)
PRIORITY:5
X-MICROSOFT-CDO-IMPORTANCE:1
CLASS:PUBLIC
END:VEVENT
END:VCALENDAR
