BEGIN:VCALENDAR
PRODID:-//kirchenweb.ch gmbh//veranstaltungsausgabe v2.0//DE
VERSION:2.0
METHOD:PUBLISH
BEGIN:VEVENT
DTSTART:20250529T080000Z
DTEND:20250529T093000Z
LOCATION:Kirche Gümligen\, Dorfstrasse 76\, 3073 Gümligen
TRANSP:OPAQUE
SEQUENCE:0
UID:44984-veranstaltung@rkmg.ch
DTSTAMP:20250417T201548Z
DESCRIPTION:Kontakt: Christian Münch\n\nWeitere Infos:
  https://www.rkmg.ch/veranstaltung/44984
SUMMARY:Konfirmationsgottesdienst Gümligen - Christian Münch
PRIORITY:5
X-MICROSOFT-CDO-IMPORTANCE:1
CLASS:PUBLIC
END:VEVENT
END:VCALENDAR
