BEGIN:VCALENDAR
PRODID:-//kirchenweb.ch gmbh//veranstaltungsausgabe v2.0//DE
VERSION:2.0
METHOD:PUBLISH
BEGIN:VEVENT
DTSTART:20250128T183000Z
DTEND:20250128T200000Z
LOCATION:Kirchgemeindehaus Muri\, Thunstrasse 98\, 3074 Muri
TRANSP:OPAQUE
SEQUENCE:0
UID:44972-veranstaltung@rkmg.ch
DTSTAMP:20240718T144932Z
DESCRIPTION:Kontakt: Pascal-Olivier Ramelet\n\nWeitere Infos:
  https://www.rkmg.ch/veranstaltung/44972
SUMMARY:KUW8 RaP ElternAbend
PRIORITY:5
X-MICROSOFT-CDO-IMPORTANCE:1
CLASS:PUBLIC
END:VEVENT
END:VCALENDAR
