BEGIN:VCALENDAR
PRODID:-//kirchenweb.ch gmbh//veranstaltungsausgabe v2.0//DE
VERSION:2.0
METHOD:PUBLISH
BEGIN:VEVENT
DTSTART:20250531T063000Z
DTEND:20250531T100000Z
LOCATION:Kirche Gümligen\, Dorfstrasse 76\, 3073 Gümligen
TRANSP:OPAQUE
SEQUENCE:0
UID:43999-veranstaltung@rkmg.ch
DTSTAMP:20250504T202329Z
DESCRIPTION:Kontakt: Eliane Diethelm\n\nWeitere Infos:
  https://www.rkmg.ch/veranstaltung/43999
SUMMARY:Hauptprobe Konfirmation ED
PRIORITY:5
X-MICROSOFT-CDO-IMPORTANCE:1
CLASS:PUBLIC
END:VEVENT
END:VCALENDAR
