BEGIN:VCALENDAR
PRODID:-//kirchenweb.ch gmbh//veranstaltungsausgabe v2.0//DE
VERSION:2.0
METHOD:PUBLISH
BEGIN:VEVENT
DTSTART:20240218T090000Z
DTEND:20240218T100000Z
LOCATION:Kirche Gümligen\, Dorfstrasse 76\, 3073 Gümligen
TRANSP:OPAQUE
SEQUENCE:0
UID:42970-veranstaltung@rkmg.ch
DTSTAMP:20240209T183705Z
DESCRIPTION:Gottesdienst zur Ökumenischen Kampagne von HEKS/Brot für
  alle und Fastenaktion mit anschliessendem Suppenzmittag\n
 \nhttps://www.rkmg.ch/oeme-oekumenische-kampagne-2024-suppenessen\n
 \nhttps://www.rkmg.ch/oeme-oekumenische-kampagne-2024\n\n\nKontakt:
  Christian Münch\n\nWeitere Infos:
  https://www.rkmg.ch/veranstaltung/42970
SUMMARY:Gottesdienst zur Ökumenischen Kampagne\, Kirche Gümligen
  (Christian Münch)
PRIORITY:5
X-MICROSOFT-CDO-IMPORTANCE:1
CLASS:PUBLIC
END:VEVENT
END:VCALENDAR
