BEGIN:VCALENDAR
PRODID:-//kirchenweb.ch gmbh//veranstaltungsausgabe v2.0//DE
VERSION:2.0
METHOD:PUBLISH
BEGIN:VEVENT
DTSTART:20240215T184500Z
DTEND:20240215T203000Z
LOCATION:Kirchgemeindehaus Muri\, Thunstrasse 98\, 3074 Muri
TRANSP:OPAQUE
SEQUENCE:0
UID:42420-veranstaltung@rkmg.ch
DTSTAMP:20230923T130904Z
DESCRIPTION:Der Cantate Chor Muri-Gümligen freut sich über neue
  Sängerinnen und Sänger. Kommen Sie unverbindlich in eine Probe. Für
  eine vorherige Kontaktaufnahme danken wir.
 \nhttps://www.rkmg.ch/cantatechor\nhttps://www.rkmg.ch/konzert2024\n
 \nKontakt: Ewald Lucas\n\nWeitere Infos:
  https://www.rkmg.ch/veranstaltung/42420
SUMMARY:Cantate Chor Probe Vivaldi/Haydn 2024
PRIORITY:5
X-MICROSOFT-CDO-IMPORTANCE:1
CLASS:PUBLIC
END:VEVENT
END:VCALENDAR
