BEGIN:VCALENDAR
PRODID:-//kirchenweb.ch gmbh//veranstaltungsausgabe v2.0//DE
VERSION:2.0
METHOD:PUBLISH
BEGIN:VEVENT
DTSTART:20240215T110000Z
DTEND:20240215T130000Z
LOCATION:Thoracherhus\, Kranichweg 10\, 3074 Muri
TRANSP:OPAQUE
SEQUENCE:0
UID:42256-veranstaltung@rkmg.ch
DTSTAMP:20240213T073723Z
DESCRIPTION:gemeinsamer Mittagstisch für Seniorinnen und Senioren der
  Gemeinde Muri-Gümligen\n/ThoracherZmittag\n\nKontakt: Stephan Kormann\n
 \nWeitere Infos: https://www.rkmg.ch/veranstaltung/42256
SUMMARY:ThoracherZmittag
PRIORITY:5
X-MICROSOFT-CDO-IMPORTANCE:1
CLASS:PUBLIC
END:VEVENT
END:VCALENDAR
