BEGIN:VCALENDAR
PRODID:-//kirchenweb.ch gmbh//veranstaltungsausgabe v2.0//DE
VERSION:2.0
METHOD:PUBLISH
BEGIN:VEVENT
DTSTART:20240219T083000Z
DTEND:20240219T100000Z
LOCATION:Kirchgemeindehaus Muri\, Thunstrasse 98\, 3074 Muri
TRANSP:OPAQUE
SEQUENCE:0
UID:39150-veranstaltung@rkmg.ch
DTSTAMP:20220815T141422Z
DESCRIPTION:Nähere Angaben zu diesem Angebot: https://www.rkmg.ch/singe\n
 \nKontakt: \n\nWeitere Infos: https://www.rkmg.ch/veranstaltung/39150
SUMMARY:SIMI – «Singe mit de Chliine»
PRIORITY:5
X-MICROSOFT-CDO-IMPORTANCE:1
CLASS:PUBLIC
END:VEVENT
END:VCALENDAR
