BEGIN:VCALENDAR
PRODID:-//kirchenweb.ch gmbh//veranstaltungsausgabe v2.0//DE
VERSION:2.0
METHOD:PUBLISH
BEGIN:VEVENT
DTSTART:20220831T160000Z
DTEND:20220831T183000Z
LOCATION:Thoracherhus\, Kranichweg 10\, 3074 Muri
TRANSP:OPAQUE
SEQUENCE:0
UID:39093-veranstaltung@rkmg.ch
DTSTAMP:20220804T070935Z
DESCRIPTION:Keramik im KreA für Erwachsene\n\nTöpfern nach Lust und
  Laune unter fachkundiger Anleitung.\nSchalten Sie ab und entfalten Sie
  Ihre Kreativität. Sie sind herzlich willkommen im freien Töpfern.
  Lassen Sie sich inspirieren von den Ideen im Atelier oder bringen Sie
  Ihre eigenen Ideen mit. \n\nKurskosten: 50.- / Nachmittag oder Abend
 \nMaterialkosten (Ton und Brand): je nach Verbrauch\n\nKontakt: \n
 \nWeitere Infos: https://www.rkmg.ch/veranstaltung/39093
SUMMARY:Keramik im KreA für Erwachsene
PRIORITY:5
X-MICROSOFT-CDO-IMPORTANCE:1
CLASS:PUBLIC
END:VEVENT
END:VCALENDAR
