BEGIN:VCALENDAR
PRODID:-//kirchenweb.ch gmbh//veranstaltungsausgabe v2.0//DE
VERSION:2.0
METHOD:PUBLISH
BEGIN:VEVENT
DTSTART:20220831T170000Z
DTEND:20220831T190000Z
LOCATION:Kirchgemeindehaus Muri\, Thunstrasse 98\, 3074 Muri
TRANSP:OPAQUE
SEQUENCE:0
UID:38146-veranstaltung@rkmg.ch
DTSTAMP:20220818T143023Z
DESCRIPTION:Vortragsreihe "Sebstbestimmt bis zum Schluss"\n\nDie
  Fachstelle für Altersfragen\, die Spitex Muri-Gümligen\, Home Instead
  und die Reformierte Kirchgemeinde laden ein zur Vortragsreihe
  "Sebstbestimmt bis zum Schluss".\n\nDas Sterben und der Tod sind Teil des
  Lebens. Eine Tatsache\, welche für viele Menschen nur schwer
  nachvollziehbar ist. \nDie Vortragsreihe gibt Einsicht ins Tabuthema und
  ermöglicht interessante und kreative Gesichtspunkte zu erfahren. \n
 \nPflegen vor dem Tod – Pflegen nach dem Tod\n\nWelche Pflege brauche
  ich während und nach dem Sterbeprozess\nRegina Bolliger\, Pflegefachfrau
  Spitex & Fachverantwortung Palliativ Care\nDaniel Messerli\, Bestatter
  Gümligen\nModeration: Patrizia Pennella\n\n\nKontakt: Stephan Kormann\n
 \nWeitere Infos: https://www.rkmg.ch/veranstaltung/38146
SUMMARY:Sebstbestimmt bis zum Schluss
PRIORITY:5
X-MICROSOFT-CDO-IMPORTANCE:1
CLASS:PUBLIC
END:VEVENT
END:VCALENDAR
