BEGIN:VCALENDAR
PRODID:-//kirchenweb.ch gmbh//veranstaltungsausgabe v2.0//DE
VERSION:2.0
METHOD:PUBLISH
BEGIN:VEVENT
DTSTART:20130527T054500Z
DTEND:20130527T064500Z
LOCATION:.\, \,
TRANSP:OPAQUE
SEQUENCE:0
UID:3778-veranstaltung@rkmg.ch
DTSTAMP:20130305T082240Z
DESCRIPTION:\n\nKontakt: Barbara Schmutz\n\nWeitere Infos:
  https://www.rkmg.ch/veranstaltung/3778
SUMMARY:Amtswoche (BS)
PRIORITY:5
X-MICROSOFT-CDO-IMPORTANCE:1
CLASS:PUBLIC
END:VEVENT
END:VCALENDAR
