BEGIN:VCALENDAR
PRODID:-//kirchenweb.ch gmbh//veranstaltungsausgabe v2.0//DE
VERSION:2.0
METHOD:PUBLISH
BEGIN:VEVENT
DTSTART:20130120T090000Z
DTEND:20130120T100000Z
LOCATION:Kirche Muri\, Thunstrasse 98\, 3074 Muri
TRANSP:OPAQUE
SEQUENCE:0
UID:3639-veranstaltung@rkmg.ch
DTSTAMP:20130114T130531Z
DESCRIPTION:ökumenischer Gottesdienst zur Gebetswoche für die Einheit
  der Christen\, Ella de Groot (Predigt) und Georges Schwickerath\,Bruder
  Klaus\, (Liturgie). Titus Bellwald\, Perkussion\, Heinz Balli\, Orgel.
 \n"Mit Gott gehen" - die Metapher des Gehens verbindet die acht Tage der
  Gebetswoche für die Einheit der Christen\, die inspiriert ist von der
  Lebenssituation der Dalits in Indien. Die Trommelmusik.ihrer
  Spiritualität kommt deshalb im Gottesdienst vor.\n\nKontakt: Ella de
  Groot\n\nWeitere Infos: https://www.rkmg.ch/veranstaltung/3639
SUMMARY:Gottesdienst Muri (Einheitswoche) mit Bruder Klaus
PRIORITY:5
X-MICROSOFT-CDO-IMPORTANCE:1
CLASS:PUBLIC
END:VEVENT
END:VCALENDAR
