BEGIN:VCALENDAR
PRODID:-//kirchenweb.ch gmbh//veranstaltungsausgabe v2.0//DE
VERSION:2.0
METHOD:PUBLISH
BEGIN:VEVENT
DTSTART:20210908T150000Z
DTEND:20210908T180000Z
LOCATION:Bärtschihus\, Dorfstrasse 14\, 3073 Gümligen
TRANSP:OPAQUE
SEQUENCE:0
UID:35962-veranstaltung@rkmg.ch
DTSTAMP:20210730T125233Z
DESCRIPTION:/dok/07475\n\nKontakt: stephan.kormann@rkmg.ch\n\nWeitere
  Infos: https://www.rkmg.ch/veranstaltung/35962
SUMMARY:Demenz im Gespräch
PRIORITY:5
X-MICROSOFT-CDO-IMPORTANCE:1
CLASS:PUBLIC
END:VEVENT
END:VCALENDAR
