BEGIN:VCALENDAR
PRODID:-//kirchenweb.ch gmbh//veranstaltungsausgabe v2.0//DE
VERSION:2.0
METHOD:PUBLISH
BEGIN:VEVENT
DTSTART:20130203T090000Z
DTEND:20130203T100000Z
LOCATION:Kirche Gümligen\, Dorfstrasse 76\, 3073 Gümligen
TRANSP:OPAQUE
SEQUENCE:0
UID:3585-veranstaltung@rkmg.ch
DTSTAMP:20130127T215142Z
DESCRIPTION:"Der Kern der Liebe zu Gott und auch der Liebe zum Nächsten
  ist die Aufmerksamkeit" (Simone Weil)\n\n\nKontakt: Karin Künti Duru\n
 \nWeitere Infos: https://www.rkmg.ch/veranstaltung/3585
SUMMARY:Gottesdienst Gümligen
PRIORITY:5
X-MICROSOFT-CDO-IMPORTANCE:1
CLASS:PUBLIC
END:VEVENT
END:VCALENDAR
