BEGIN:VCALENDAR
PRODID:-//kirchenweb.ch gmbh//veranstaltungsausgabe v2.0//DE
VERSION:2.0
METHOD:PUBLISH
BEGIN:VEVENT
DTSTART:20210831T063000Z
DTEND:20210831T130000Z
LOCATION:Kirchgemeindehaus Gümligen\, Dorfstrasse 76\, 3073 Gümligen
TRANSP:OPAQUE
SEQUENCE:0
UID:35601-veranstaltung@rkmg.ch
DTSTAMP:20210727T091455Z
DESCRIPTION:KUW Ganztag\n\nKontakt: Eliane Diethelm\n\nWeitere Infos:
  https://www.rkmg.ch/veranstaltung/35601
SUMMARY:KUW 2. Kl. Dorf | Melchenbühl | Moos
PRIORITY:5
X-MICROSOFT-CDO-IMPORTANCE:1
CLASS:PUBLIC
END:VEVENT
END:VCALENDAR
