BEGIN:VCALENDAR
PRODID:-//kirchenweb.ch gmbh//veranstaltungsausgabe v2.0//DE
VERSION:2.0
METHOD:PUBLISH
BEGIN:VEVENT
DTSTART:20210908T113000Z
DTEND:20210908T140000Z
LOCATION:Kirchgemeindehaus Gümligen\, Dorfstrasse 76\, 3073 Gümligen
TRANSP:OPAQUE
SEQUENCE:0
UID:35599-veranstaltung@rkmg.ch
DTSTAMP:20210727T092011Z
DESCRIPTION:Kontakt: Eliane Diethelm\n\nWeitere Infos:
  https://www.rkmg.ch/veranstaltung/35599
SUMMARY:KUW 2. Kl. Dorf | Melchenbühl | Moos
PRIORITY:5
X-MICROSOFT-CDO-IMPORTANCE:1
CLASS:PUBLIC
END:VEVENT
END:VCALENDAR
