BEGIN:VCALENDAR
PRODID:-//kirchenweb.ch gmbh//veranstaltungsausgabe v2.0//DE
VERSION:2.0
METHOD:PUBLISH
BEGIN:VEVENT
DTSTART:20210908T140000Z
DTEND:20210908T163000Z
LOCATION:Thoracherhus\, Kranichweg 10\, 3074 Muri
TRANSP:OPAQUE
SEQUENCE:0
UID:35471-veranstaltung@rkmg.ch
DTSTAMP:20210804T085037Z
DESCRIPTION:AKTEUELLSTE INFOS unter http://www.moditreff-mg.ch/\n\n\n\nAb
  der 4. Klasse steht euch der Moditreff offen! Komm vorbei\, lerne neue
  Freundinnen kennen\, chill auf unseren Sofas\, bastle etwas\, tobe dich
  mit neuen Frisuren und den Schminkutensilien aus\, koche was mit uns\,
  stelle dich spannenden Challenges und vieles mehr… 🙂\n\nDer Treff
  ist jeweils während der Schulzeit abwechselnd mittwochs und freitags von
  16.00 – 18.30 Uhr geöffnet. Bring bitte 2.- mit für Zvieri und
  Materialkosten.\n\nKontakt: \n\n\n\nWeitere Infos:
  https://www.rkmg.ch/veranstaltung/35471
SUMMARY:Moditräff- Bändeli knüpfen und Moditreff-Magazin
PRIORITY:5
X-MICROSOFT-CDO-IMPORTANCE:1
CLASS:PUBLIC
END:VEVENT
END:VCALENDAR
