BEGIN:VCALENDAR
PRODID:-//kirchenweb.ch gmbh//veranstaltungsausgabe v2.0//DE
VERSION:2.0
METHOD:PUBLISH
BEGIN:VEVENT
DTSTART:20120525T050000Z
DTEND:20120525T060000Z
LOCATION:Kirche Gümligen\, Dorfstrasse 76\, 3073 Gümligen
TRANSP:OPAQUE
SEQUENCE:0
UID:3459-veranstaltung@rkmg.ch
DTSTAMP:20120524T060203Z
DESCRIPTION:Kontakt: HP\n\nWeitere Infos:
  https://www.rkmg.ch/veranstaltung/3459
SUMMARY:Üben HP
PRIORITY:5
X-MICROSOFT-CDO-IMPORTANCE:1
CLASS:PUBLIC
END:VEVENT
END:VCALENDAR
