BEGIN:VCALENDAR
PRODID:-//kirchenweb.ch gmbh//veranstaltungsausgabe v2.0//DE
VERSION:2.0
METHOD:PUBLISH
BEGIN:VEVENT
DTSTART:20210828T170000Z
DTEND:20210828T180000Z
LOCATION:Kirche Muri\, Thunstrasse 98\, 3074 Muri
TRANSP:OPAQUE
SEQUENCE:0
UID:32160-veranstaltung@rkmg.ch
DTSTAMP:20210823T064217Z
DESCRIPTION:Mensch und Natur – eine romantische Beziehung?\n\nMusik und
  Poesie aus der Romantik scheint die Natur zu verklären und sie in ein
  harmonisches Verhältnis zum Menschen zu setzen. Doch hinter dieser
  vermeintlichen Einträchtigkeit steckt mehr: tiefgründiges mystisches
  Denken\, das uns weitgehend abhandengekommen ist. Wir spüren ihm nach
  und fragen nach seiner heutigen Relevanz anhand romantischer Musik und
  Texten.\n\n\nKollekte: Gesamtkirchliche Kollekte zum Bibelsonntag am 29.
  August\nDas Thema des diesjährigen Bibelsonntags lautet «Zukunft und
  Hoffnung in Zeiten des Umbruchs». Alle Kirchgemeinden sind eingeladen
  mitzumachen. Neu steht Personen\, die nicht physisch an einem
  Gottesdienst teilnehmen können\, die Möglichkeit offen\, online auf
  http://www.refbejuso.ch einen Kollektenbeitrag zu überweisen. \n\n
 \nKontakt: \n\nWeitere Infos: https://www.rkmg.ch/veranstaltung/32160
SUMMARY:Feier.Abend Kirche Muri (Manuel Perucchi)
PRIORITY:5
X-MICROSOFT-CDO-IMPORTANCE:1
CLASS:PUBLIC
END:VEVENT
END:VCALENDAR
