BEGIN:VCALENDAR
PRODID:-//kirchenweb.ch gmbh//veranstaltungsausgabe v2.0//DE
VERSION:2.0
METHOD:PUBLISH
BEGIN:VEVENT
DTSTART:20190527T173000Z
DTEND:20190527T193000Z
LOCATION:MüZe\, Kirchgemeindehaus Melchenbühl\, Bersetweg 19\, 3073
  Gümligen
TRANSP:OPAQUE
SEQUENCE:0
UID:27491-veranstaltung@rkmg.ch
DTSTAMP:20190307T075507Z
DESCRIPTION:Kontakt: Susi Stauffer\, Dennigkofenweg 61\, Gümligen\, 031
  951 51 73\n\nWeitere Infos: https://www.rkmg.ch/veranstaltung/27491
SUMMARY:Abesitz
PRIORITY:5
X-MICROSOFT-CDO-IMPORTANCE:1
CLASS:PUBLIC
END:VEVENT
END:VCALENDAR
