BEGIN:VCALENDAR
PRODID:-//kirchenweb.ch gmbh//veranstaltungsausgabe v2.0//DE
VERSION:2.0
METHOD:PUBLISH
BEGIN:VEVENT
DTSTART:20190529T120000Z
DTEND:20190529T150000Z
LOCATION:Brache bei der OKJA\, \,
TRANSP:OPAQUE
SEQUENCE:0
UID:27470-veranstaltung@rkmg.ch
DTSTAMP:20190529T062243Z
DESCRIPTION:Worbstrasse 211  3073 Gümligen\n\nInternationaler Tag des
  Spiels\n\nKomm auf die Brache bei der OKJA an der Worbstrasse 211 in
  Gümligen\n\nab 14.00 Uhr - 17.00 Uhr\n\n \n\nAuf dem Gelände direkt
  neben der Fachstelle befindet sich seit Herbst 2016 eine Spielbrache. Die
  wieder wärmer werdenden Temperaturen laden nun ein\, mit den Kindern zu
  entdecken\, zu bauen\, auszuprobieren - einfach kreativ zu sein.\n\nDie
  Brache ist für jedermann frei zugänglich. Gestalten Sie mit und lassen
  Sie die Brache leben!\n\n \n\nAuch bei Regenwetter ist ein Brachenbesuch
  ideal. Für Kinder gibts kaum was schöneres als in eine frische Pfütze
  zu springen und der Sand lässt sich nass auch viel einfacher Formen!\n
 \nKontakt: \n\n\nWeitere Infos: https://www.rkmg.ch/veranstaltung/27470
SUMMARY:Internationaler Tag des Spiels
PRIORITY:5
X-MICROSOFT-CDO-IMPORTANCE:1
CLASS:PUBLIC
END:VEVENT
END:VCALENDAR
