BEGIN:VCALENDAR
PRODID:-//kirchenweb.ch gmbh//veranstaltungsausgabe v2.0//DE
VERSION:2.0
METHOD:PUBLISH
BEGIN:VEVENT
DTSTART:20190529T140000Z
DTEND:20190529T163000Z
LOCATION:Thoracherhus\, Kranichweg 10\, 3074 Muri
TRANSP:OPAQUE
SEQUENCE:0
UID:27310-veranstaltung@rkmg.ch
DTSTAMP:20190211T141515Z
DESCRIPTION:Kontakt: Belinda Saner\n076 803 32 20\n\nWeitere Infos:
  https://www.rkmg.ch/veranstaltung/27310
SUMMARY:Moditräff "Selbst ist die Frau"
PRIORITY:5
X-MICROSOFT-CDO-IMPORTANCE:1
CLASS:PUBLIC
END:VEVENT
END:VCALENDAR
