BEGIN:VCALENDAR
PRODID:-//kirchenweb.ch gmbh//veranstaltungsausgabe v2.0//DE
VERSION:2.0
METHOD:PUBLISH
BEGIN:VEVENT
DTSTART:20190322T170000Z
DTEND:20190322T173000Z
LOCATION:Kirche Muri\, Thunstrasse 98\, 3074 Muri
TRANSP:OPAQUE
SEQUENCE:0
UID:25573-veranstaltung@rkmg.ch
DTSTAMP:20190403T202515Z
DESCRIPTION:Töne und Texte\n... zum Hören\nPfeil (unten) anklicken.\n\n
 \n«Evening rise» - Spirituals und Gospels zwischen Klage und Hoffnung\n
 \nVon der Kraft der Religion im trostlosen Leben geschundener\,
  geschlagener und sehnsüchtiger Menschen erzählen sowohl Gospels wie
  auch ihre Vorfahren\, die Spirituals. Afroamerikanische Sklaven sangen
  von ihrer erstaunlichen Hoffnung und ihrem unerschütterlichen Glauben an
  Gott. Inhaltlich orientieren sich Spirituals und Gospels vornehmlich an
  Texten aus dem Alten Testament\, besonders an der Erzählung von der
  Sklaverei in Ägypten und der bildmächtigen Befreiung des Volkes Israel
  durch Mose. Hier fanden die versklavten Afrikanerinnen und Afrikander
  Parallelen zu ihrer eigenen Geschichte - und Mut\, selber hoffnungsvoll
  an eine wundersame Rettung zu glauben. Die häufig lebensfroh
  vorgetragenen Songs wollen nicht darüber hinwegtäuschen\, dass darin
  Traurigkeit und Trauer verarbeitet werden: Traurigkeit über die
  prekären Lebensbedingungen - und Trauer über die unzähligen Toten\,
  die Sklavenhandel und Deportation gefordert haben.\n\n\nAm Freitagabend
  ertönen "Abendklänge" von "Stimmlisch": Vier Frauen und vier Männer
  singen acappella und ohne Technik von Spirituals bis zeitgenössischer
  Gospelmusik - je nach Stück begleitet mit Klavier\, Querflöte oder
  Cajon.\n\nSopran: Karin Naef\, Jenny Martig\nAlt: Manuela Kaeser\,
  Stéphanie Schafer\nTenor: Daniel Martig\, André Werder\nBass: Rolf
  Matter\, Andreas Zaugg\n\n\n\nKontakt: \n\nWeitere Infos:
  https://www.rkmg.ch/veranstaltung/25573
SUMMARY:Abendklänge Muri (Manuel Perucchi)
PRIORITY:5
X-MICROSOFT-CDO-IMPORTANCE:1
CLASS:PUBLIC
END:VEVENT
END:VCALENDAR
