BEGIN:VCALENDAR
PRODID:-//kirchenweb.ch gmbh//veranstaltungsausgabe v2.0//DE
VERSION:2.0
METHOD:PUBLISH
BEGIN:VEVENT
DTSTART:20180329T164500Z
DTEND:20180329T174500Z
LOCATION:Kirche Muri\, Thunstrasse 98\, 3074 Muri
TRANSP:OPAQUE
SEQUENCE:0
UID:24129-veranstaltung@rkmg.ch
DTSTAMP:20180330T140104Z
DESCRIPTION:Ausserordentliche Kirchgemeindeversammlung\, zu der alle
  Stimmberechtigten herzlich eingeladen sind.\nNähere Angaben finden Sie
  auf der Seite kgv.\n/bericht/1435\n\nKontakt: \n\nWeitere Infos:
  https://www.rkmg.ch/veranstaltung/24129
SUMMARY:Ausserordentliche Kirchgemeindeversammlung
PRIORITY:5
X-MICROSOFT-CDO-IMPORTANCE:1
CLASS:PUBLIC
END:VEVENT
END:VCALENDAR
