BEGIN:VCALENDAR
PRODID:-//kirchenweb.ch gmbh//veranstaltungsausgabe v2.0//DE
VERSION:2.0
METHOD:PUBLISH
BEGIN:VEVENT
DTSTART:20180912T115500Z
DTEND:20180912T152300Z
LOCATION:Station Muri (Kiosk)\, Thunstrasse 74\, 3074 Muri
TRANSP:OPAQUE
SEQUENCE:0
UID:24061-veranstaltung@rkmg.ch
DTSTAMP:20180907T113846Z
DESCRIPTION:Was frisst eine "Geiss" am liebsten? Was passiert das ganze
  Jahr über auf einem Bauernhof? All das und noch vieles mehr wirst du
  erfahren\, wenn du mit uns den Bauernhof der Familie Bigler in
  Allmendingen besuchen kommst. Auf dem Hof wirst du Hasen\, Kätzchen\,
  Hühner\, Kühe und Geissen begegnen und sie von ganz nah beobachten
  können. Ein tolles Erlebnis wird es auf jeden Fall werden.\n
 \nAltersgruppe\nDies ist ein BüX-Angebot und richtet sich an Kinder ab 1.
  Schuljahr. Für Jugendliche ab 6. Schuljahr besteht die Möglichkeit\,
  als JungleiterIn kostenlos dabei zu sein. Nähere Infos für diese
  Mithilfe: HelferBoX.\nAllgemeine Infos zur Jugendarbeit gibts hier. An
  diesen Orten gibts weitere KreA-BüX-Flyer in Papierform. In
  elektronischer Form hier\n\nMitnehmen \nBitte bring gute Schuhe und je
  nach Witterung einen Regenschutz mit. Wir werden den ganzen Nachmittag
  draussen verbringen. \n\nBemerkungen\nZum z`Vieri offeriert uns die
  Familie Bigler etwas Feines vom Bauernhof.\n\nKein Unkostenbeitrag\nDie
  Kosten werden von der Kirchgemeinde getragen.\n\nBeim letzten Mal gab's
  einen Bericht mit  Fotos. Viel Spass beim Nachlesen!\n\nAnmeldung\nbis
  spätestens Montag\, 3. Sept.. Die Berücksichtigung erfolgt nach Eingang
  der Anmeldungen. Ein * (Sternchen) vor dem Titel bedeutet\, dass das
  Angebot bereits ausgebucht ist. Wir führen aber eine Warteliste\, auf
  der du bei Absagen von bereits Angemeldeten nachrutschen kannst. Mit
  einer Anmeldung  stimmst du resp. deine Eltern den allgemeinen
  Richtlinien der Jugendarbeit zu.\n\nBist du dabei? Macht es dich
  gluschtig? Oder hast du Fragen? Dann melde dich einfach\, wir freuen uns
  über jede Kontaktaufnahme\, insbesondere über Anmeldungen! \nfalls wir
  dich bereits kennen:\n\nKontakt: gaby.zueblin\n\nWeitere Infos:
  https://www.rkmg.ch/veranstaltung/24061
SUMMARY:Bauernhof-Besuch
PRIORITY:5
X-MICROSOFT-CDO-IMPORTANCE:1
CLASS:PUBLIC
END:VEVENT
END:VCALENDAR
