BEGIN:VCALENDAR
PRODID:-//kirchenweb.ch gmbh//veranstaltungsausgabe v2.0//DE
VERSION:2.0
METHOD:PUBLISH
BEGIN:VEVENT
DTSTART:20190528T120000Z
DTEND:20190528T130000Z
LOCATION:Kirchgemeindehaus Muri\, Thunstrasse 98\, 3074 Muri
TRANSP:OPAQUE
SEQUENCE:0
UID:23818-veranstaltung@rkmg.ch
DTSTAMP:20190401T083221Z
DESCRIPTION:Kontakt: Ingrid Minder\, 031 951 66 17\,
  ingrid.minder@muri-be.ch\n\nWeitere Infos:
  https://www.rkmg.ch/veranstaltung/23818
SUMMARY:Arbeitskreis Muri
PRIORITY:5
X-MICROSOFT-CDO-IMPORTANCE:1
CLASS:PUBLIC
END:VEVENT
END:VCALENDAR
