BEGIN:VCALENDAR
PRODID:-//kirchenweb.ch gmbh//veranstaltungsausgabe v2.0//DE
VERSION:2.0
METHOD:PUBLISH
BEGIN:VEVENT
DTSTART:20180913T060000Z
DTEND:20180913T100000Z
LOCATION:MüZe\, Kirchgemeindehaus Melchenbühl\, Bersetweg 19\, 3073
  Gümligen
TRANSP:OPAQUE
SEQUENCE:0
UID:23712-veranstaltung@rkmg.ch
DTSTAMP:20171218T134241Z
DESCRIPTION:Ausflug (Morgen)\n\nKontakt: Cornelia Salvisberg\n\nWeitere
  Infos: https://www.rkmg.ch/veranstaltung/23712
SUMMARY:Café Marhaba - Interkultureller Frauentreff Muri-Gümligen
PRIORITY:5
X-MICROSOFT-CDO-IMPORTANCE:1
CLASS:PUBLIC
END:VEVENT
END:VCALENDAR
