BEGIN:VCALENDAR
PRODID:-//kirchenweb.ch gmbh//veranstaltungsausgabe v2.0//DE
VERSION:2.0
METHOD:PUBLISH
BEGIN:VEVENT
DTSTART:20180320T180000Z
DTEND:20180320T210000Z
LOCATION:Kirche Muri\, Thunstrasse 98\, 3074 Muri
TRANSP:OPAQUE
SEQUENCE:0
UID:23683-veranstaltung@rkmg.ch
DTSTAMP:20180131T103214Z
DESCRIPTION:Mehr zum Projekt /singen\n\nKontakt: Susanne Pelozzi\n
 \nWeitere Infos: https://www.rkmg.ch/veranstaltung/23683
SUMMARY:Chorprobe mit Shirley Grimes (Muri)
PRIORITY:5
X-MICROSOFT-CDO-IMPORTANCE:1
CLASS:PUBLIC
END:VEVENT
END:VCALENDAR
