BEGIN:VCALENDAR
PRODID:-//kirchenweb.ch gmbh//veranstaltungsausgabe v2.0//DE
VERSION:2.0
METHOD:PUBLISH
BEGIN:VEVENT
DTSTART:20180329T130000Z
DTEND:20180329T140000Z
LOCATION:Stiftung Alters- und Pflegeheim Buchegg\, Thunstrasse 51\, 3074
  Muri
TRANSP:OPAQUE
SEQUENCE:0
UID:23646-veranstaltung@rkmg.ch
DTSTAMP:20171220T150211Z
DESCRIPTION:Mitwirkung von Mathilda Blumenthal\, Pfarrei Bruder Klaus.
 \nökumenische Feier mit Abendmahl.\n\nKontakt: Christoph Knoch\n\nWeitere
  Infos: https://www.rkmg.ch/veranstaltung/23646
SUMMARY:Andacht Buchegg (CK)
PRIORITY:5
X-MICROSOFT-CDO-IMPORTANCE:1
CLASS:PUBLIC
END:VEVENT
END:VCALENDAR
