BEGIN:VCALENDAR
PRODID:-//kirchenweb.ch gmbh//veranstaltungsausgabe v2.0//DE
VERSION:2.0
METHOD:PUBLISH
BEGIN:VEVENT
DTSTART:20180320T183000Z
DTEND:20180320T210000Z
LOCATION:Thoracherhus\, Kranichweg 10\, 3074 Muri
TRANSP:OPAQUE
SEQUENCE:0
UID:23389-veranstaltung@rkmg.ch
DTSTAMP:20180202T134306Z
DESCRIPTION:Kontakt: \n\nWeitere Infos:
  https://www.rkmg.ch/veranstaltung/23389
SUMMARY:KUW-Ressortsitzung
PRIORITY:5
X-MICROSOFT-CDO-IMPORTANCE:1
CLASS:PUBLIC
END:VEVENT
END:VCALENDAR
