BEGIN:VCALENDAR
PRODID:-//kirchenweb.ch gmbh//veranstaltungsausgabe v2.0//DE
VERSION:2.0
METHOD:PUBLISH
BEGIN:VEVENT
DTSTART:20180329T160000Z
DTEND:20180329T163000Z
LOCATION:Kirche Muri\, Thunstrasse 98\, 3074 Muri
TRANSP:OPAQUE
SEQUENCE:0
UID:21268-veranstaltung@rkmg.ch
DTSTAMP:20180330T140244Z
DESCRIPTION:Christoph Knoch und Sebastian Stalder\, Texte\nHeinz Balli\,
  Orgel\n\n/dok/05132\n\n\nAbendklänge zum Hören\nPfeil (unten) EINMAL
  anklicken.\n\n\nKontakt: Christoph Knoch\n\nWeitere Infos:
  https://www.rkmg.ch/veranstaltung/21268
SUMMARY:Abendklänge an Gründonnerstag (Christoph Knoch\, Heinz Balli)
PRIORITY:5
X-MICROSOFT-CDO-IMPORTANCE:1
CLASS:PUBLIC
END:VEVENT
END:VCALENDAR
