BEGIN:VCALENDAR
PRODID:-//kirchenweb.ch gmbh//veranstaltungsausgabe v2.0//DE
VERSION:2.0
METHOD:PUBLISH
BEGIN:VEVENT
DTSTART:20170116T133000Z
DTEND:20170116T153000Z
LOCATION:Kirchgemeindehaus Gümligen\, Dorfstrasse 76\, 3073 Gümligen
TRANSP:OPAQUE
SEQUENCE:0
UID:19134-veranstaltung@rkmg.ch
DTSTAMP:20161128T115007Z
DESCRIPTION:Kontakt: Seraina Wyssling\n\nWeitere Infos:
  https://www.rkmg.ch/veranstaltung/19134
SUMMARY:CaféCulturel
PRIORITY:5
X-MICROSOFT-CDO-IMPORTANCE:1
CLASS:PUBLIC
END:VEVENT
END:VCALENDAR
