BEGIN:VCALENDAR
PRODID:-//kirchenweb.ch gmbh//veranstaltungsausgabe v2.0//DE
VERSION:2.0
METHOD:PUBLISH
BEGIN:VEVENT
DTSTART:20120610T080000Z
DTEND:20120610T090000Z
LOCATION:Kirche Gümligen\, Dorfstrasse 76\, 3073 Gümligen
TRANSP:OPAQUE
SEQUENCE:0
UID:190-veranstaltung@rkmg.ch
DTSTAMP:20120603T201259Z
DESCRIPTION:Pfrn. Susanna Bleuer. Thema: "Lacht Gott\, und wenn ja\,
  worüber?" (Hiob 9\,23 und Lukas 6\,21). Lieder: 571\,213\,30\,835.
  Jacques Pasquier\, Orgel. Kollekte: FEPA \n\nKontakt: Susanna Bleuer\n
 \nWeitere Infos: https://www.rkmg.ch/veranstaltung/190
SUMMARY:Gottesdienst Gümligen
PRIORITY:5
X-MICROSOFT-CDO-IMPORTANCE:1
CLASS:PUBLIC
END:VEVENT
END:VCALENDAR
