BEGIN:VCALENDAR
PRODID:-//kirchenweb.ch gmbh//veranstaltungsausgabe v2.0//DE
VERSION:2.0
METHOD:PUBLISH
BEGIN:VEVENT
DTSTART:20170603T150000Z
DTEND:20170603T160000Z
LOCATION:Kirche Muri\, Thunstrasse 98\, 3074 Muri
TRANSP:OPAQUE
SEQUENCE:0
UID:18323-veranstaltung@rkmg.ch
DTSTAMP:20170510T112444Z
DESCRIPTION:Kathrin Witschi gestaltet die Feier (ca. 30 Minuten) für
  Kinder und Erwachsene.\n\nKontakt: Kathrin Witschi\n\nWeitere Infos:
  https://www.rkmg.ch/veranstaltung/18323
SUMMARY:Familiengottesdienst im Jahreskreis: Pfingsten
PRIORITY:5
X-MICROSOFT-CDO-IMPORTANCE:1
CLASS:PUBLIC
END:VEVENT
END:VCALENDAR
