BEGIN:VCALENDAR
PRODID:-//kirchenweb.ch gmbh//veranstaltungsausgabe v2.0//DE
VERSION:2.0
METHOD:PUBLISH
BEGIN:VEVENT
DTSTART:20170127T093500Z
DTEND:20170127T170000Z
LOCATION:mit Fondue draussen im Wald\, \,
TRANSP:OPAQUE
SEQUENCE:0
UID:18304-veranstaltung@rkmg.ch
DTSTAMP:20170130T143112Z
DESCRIPTION:/dok/04109\n\nKontakt: Heidi Hugi\, 079 630 32 62\n\nWeitere
  Infos: https://www.rkmg.ch/veranstaltung/18304
SUMMARY:Spaziergang
PRIORITY:5
X-MICROSOFT-CDO-IMPORTANCE:1
CLASS:PUBLIC
END:VEVENT
END:VCALENDAR
