BEGIN:VCALENDAR
PRODID:-//kirchenweb.ch gmbh//veranstaltungsausgabe v2.0//DE
VERSION:2.0
METHOD:PUBLISH
BEGIN:VEVENT
DTSTART:20170613T080000Z
DTEND:20170613T090000Z
LOCATION:Buchegg\, \,
TRANSP:OPAQUE
SEQUENCE:0
UID:18182-veranstaltung@rkmg.ch
DTSTAMP:20170228T155132Z
DESCRIPTION:/dok/04221\n\nKontakt: Stéphanie Schafer\n\nWeitere Infos:
  https://www.rkmg.ch/veranstaltung/18182
SUMMARY:Jahreszeiten-Singen
PRIORITY:5
X-MICROSOFT-CDO-IMPORTANCE:1
CLASS:PUBLIC
END:VEVENT
END:VCALENDAR
