BEGIN:VCALENDAR
PRODID:-//kirchenweb.ch gmbh//veranstaltungsausgabe v2.0//DE
VERSION:2.0
METHOD:PUBLISH
BEGIN:VEVENT
DTSTART:20120205T090000Z
DTEND:20120205T100000Z
LOCATION:Kirche Gümligen\, Dorfstrasse 76\, 3073 Gümligen
TRANSP:OPAQUE
SEQUENCE:0
UID:173-veranstaltung@rkmg.ch
DTSTAMP:20220109T074304Z
DESCRIPTION:Gottesdienst mit Direktübertragung von srf1\n\nDer ad-hoc
  Chor singt \n«By the rivers of Babylon»\n«Über sieben Brücken musst
  du gehn»\n«Lean on me»\n\nGottesdienst in der Aufzeichnung aus dem
  Übertragungswagen mit Vorspann:
 \nhttp://www.youtube.com/watch?v=TafmBn7lmso&feature=youtu.be\n\n/dok/0306
 \n/dok/0305\n«Gastfreundschaft ist das Wesen des Evangeliums\, denn Gott
  hat Platz für alle!» \n\n\n\n\nKontakt: Christoph Knoch\n\nWeitere
  Infos: https://www.rkmg.ch/veranstaltung/173
SUMMARY:Gottesdienst Gümligen
PRIORITY:5
X-MICROSOFT-CDO-IMPORTANCE:1
CLASS:PUBLIC
END:VEVENT
END:VCALENDAR
