BEGIN:VCALENDAR
PRODID:-//kirchenweb.ch gmbh//veranstaltungsausgabe v2.0//DE
VERSION:2.0
METHOD:PUBLISH
BEGIN:VEVENT
DTSTART:20170604T080000Z
DTEND:20170604T090000Z
LOCATION:Kirche Muri\, Thunstrasse 98\, 3074 Muri
TRANSP:OPAQUE
SEQUENCE:0
UID:17270-veranstaltung@rkmg.ch
DTSTAMP:20170703T123241Z
DESCRIPTION:Wir feiern das Sinnliche und das Schöne und teilen die Gaben
  des Lebens. \nDie Dynamik des Alltags unterbrechen und Innehalten: so
  wollen wir uns begeistern lassen durch Musik und Stille\, Poesie und
  Verbundenheit.\n\nMusik: http://www.agataraatz.com\, Violine und
  http://www.marcinfleszar.com\, Orgel und Cembalo spielen Werke von Jean
  Philippe Rameau\, Johann Sebastian Bach und Giuseppe Tartini.
  (/dok/04416).\n\n\n\n\n\n\nPfingstkollekte (Synodalrat):
  «Begegnungsmöglichkeiten für Flüchtlinge und Einheimische». 
  http://www.refbejuso.ch/fileadmin/user_upload/Downloads/Zentrale_Dienste/
 Finanzen_deutsch/ZD_INF_d_Pfingsten__Aufruf_2017.pdf und
  http://www.refbejuso.ch/fileadmin/user_upload/Downloads/Zentrale_Dienste/
 Finanzen_deutsch/ZD_INF_d_Pfingsten_Projekte2017.pdf \n\n\n\n\n\nKontakt:
  Ella de Groot\n\nWeitere Infos: https://www.rkmg.ch/veranstaltung/17270
SUMMARY:Gottesdienst an Pfingsten Muri (Ella de Groot)
PRIORITY:5
X-MICROSOFT-CDO-IMPORTANCE:1
CLASS:PUBLIC
END:VEVENT
END:VCALENDAR
