BEGIN:VCALENDAR
PRODID:-//kirchenweb.ch gmbh//veranstaltungsausgabe v2.0//DE
VERSION:2.0
METHOD:PUBLISH
BEGIN:VEVENT
DTSTART:20170126T083000Z
DTEND:20170126T100000Z
LOCATION:Thoracherhus\, Kranichweg 10\, 3074 Muri
TRANSP:OPAQUE
SEQUENCE:0
UID:17200-veranstaltung@rkmg.ch
DTSTAMP:20161220T081443Z
DESCRIPTION:Thema:\nEin Baum ist mehr als ein Baum\n\nKontakt: Annemarie
  Frick\, Hintere Dorfgasse 14\, 3073 Gümligen\n031 951 14 42\n\nWeitere
  Infos: https://www.rkmg.ch/veranstaltung/17200
SUMMARY:Gedächtnistraining    261/16
PRIORITY:5
X-MICROSOFT-CDO-IMPORTANCE:1
CLASS:PUBLIC
END:VEVENT
END:VCALENDAR
