BEGIN:VCALENDAR
PRODID:-//kirchenweb.ch gmbh//veranstaltungsausgabe v2.0//DE
VERSION:2.0
METHOD:PUBLISH
BEGIN:VEVENT
DTSTART:20120122T090000Z
DTEND:20120122T100000Z
LOCATION:Kirche Gümligen\, Dorfstrasse 76\, 3073 Gümligen
TRANSP:OPAQUE
SEQUENCE:0
UID:172-veranstaltung@rkmg.ch
DTSTAMP:20120108T205442Z
DESCRIPTION:KUW-Gottesdienst mit Abendmahl\nMitwirkung von Martin
  Ferrazzini und Hélène Simmen\n\nKollekte: http://www.als-vereinigung.ch
 \n\nKontakt: Karin Künti Duru\n\nWeitere Infos:
  https://www.rkmg.ch/veranstaltung/172
SUMMARY:KUW-Gottesdienst Gümligen
PRIORITY:5
X-MICROSOFT-CDO-IMPORTANCE:1
CLASS:PUBLIC
END:VEVENT
END:VCALENDAR
