BEGIN:VCALENDAR
PRODID:-//kirchenweb.ch gmbh//veranstaltungsausgabe v2.0//DE
VERSION:2.0
METHOD:PUBLISH
BEGIN:VEVENT
DTSTART:20160119T133000Z
DTEND:20160119T153000Z
LOCATION:Kirchgemeindehaus Muri\, Thunstrasse 98\, 3074 Muri
TRANSP:OPAQUE
SEQUENCE:0
UID:15946-veranstaltung@rkmg.ch
DTSTAMP:20151222T124608Z
DESCRIPTION:Helena Käser-Heeb lebte von 1987 bis 1989 mit ihrer Familie
  in Simbabwe. Ihr Mann arbeitete als Arzt in einem Buschspital\, während
  sie den Haushalt der Familie mit zwei kleinen Kindern organisierte\, und
  das Dritte dort zur Welt brachte. Sie pflegte gute Kontakte zu den
  Einheimischen und die Offenheit der Bevölkerung bescherte ihr viele
  berührende und aufwühlende Begegnungen. Helena Käser-Heeb erzählt
  über diese Zeit und liest aus ihrem Buch vor. \n\n/dok/03167\n\nKontakt:
  stephan.kormann@rkmg.ch\n\nWeitere Infos:
  https://www.rkmg.ch/veranstaltung/15946
SUMMARY:Altersnachmittag MuSe
PRIORITY:5
X-MICROSOFT-CDO-IMPORTANCE:1
CLASS:PUBLIC
END:VEVENT
END:VCALENDAR
