BEGIN:VCALENDAR
PRODID:-//kirchenweb.ch gmbh//veranstaltungsausgabe v2.0//DE
VERSION:2.0
METHOD:PUBLISH
BEGIN:VEVENT
DTSTART:20120610T080000Z
DTEND:20120610T090000Z
LOCATION:Kirche Muri\, Thunstrasse 96\, 3074 Muri
TRANSP:OPAQUE
SEQUENCE:0
UID:140-veranstaltung@rkmg.ch
DTSTAMP:20120510T133930Z
DESCRIPTION:Gottesdienst mit Taufe\nPhilippe Stalder und Andreas Renggli\,
  Musik\nPredigt zum Thema "Was wollen wir uns wünschen?\nLieder:\n167\, 1
  - 3\n825\, 1 - 5\n654\, 1\, 2\, 4 - 6\n346\, 1 - 3\nKollekte: FEPA\n
 \nKontakt: Philippe Stalder\n\nWeitere Infos:
  https://www.rkmg.ch/veranstaltung/140
SUMMARY:Gottesdienst Muri
PRIORITY:5
X-MICROSOFT-CDO-IMPORTANCE:1
CLASS:PUBLIC
END:VEVENT
END:VCALENDAR
