BEGIN:VCALENDAR
PRODID:-//kirchenweb.ch gmbh//veranstaltungsausgabe v2.0//DE
VERSION:2.0
METHOD:PUBLISH
BEGIN:VEVENT
DTSTART:20160119T150000Z
DTEND:20160119T160000Z
LOCATION:Kirchgemeindehaus Muri\, Thunstrasse 98\, 3074 Muri
TRANSP:OPAQUE
SEQUENCE:0
UID:13955-veranstaltung@rkmg.ch
DTSTAMP:20151008T155752Z
DESCRIPTION:Das Evangelium von Markus: religiös oder politisch?\nIn der
  Menge von Kommentaren auf das Markusevangelium hat sich eine ganz neue
  Stimme hören lassen\, die sagt\, Markus sei es nicht darum gegangen\,
  Jesus als Sohn Gottes darzustellen\, sondern als einen Mann\, der das
  Königtum über Judäa anstrebte.\nDiese Sichtweise möchte ich
  nachforschen und diskutieren.\n\n\nKontakt: Ella de Groot\n\nWeitere
  Infos: https://www.rkmg.ch/veranstaltung/13955
SUMMARY:Offene Gesprächsrunde Markus
PRIORITY:5
X-MICROSOFT-CDO-IMPORTANCE:1
CLASS:PUBLIC
END:VEVENT
END:VCALENDAR
