BEGIN:VCALENDAR
PRODID:-//kirchenweb.ch gmbh//veranstaltungsausgabe v2.0//DE
VERSION:2.0
METHOD:PUBLISH
BEGIN:VEVENT
DTSTART:20160105T133000Z
DTEND:20160105T143000Z
LOCATION:Kirchgemeindehaus Melchenbühl\, Bersetweg 19\, 3073 Gümligen
TRANSP:OPAQUE
SEQUENCE:0
UID:13884-veranstaltung@rkmg.ch
DTSTAMP:20151207T072420Z
DESCRIPTION:Die heiligen drei Könige aus Morgenland\,\nsie frugen in
  jedem Städtchen:\nWo geht der Weg nach Bethlehem\,\nihr lieben Buben und
  Mädchen?\n\nDie jungen und Alten\, sie wußten es nicht\,\ndie Könige
  zogen weiter;\nsie folgten einem goldenen Stern\,\nder leuchtete lieblich
  und heiter.\n\nDer Stern blieb stehn über Josephs Haus\,\nda sind sie
  hineingegangen;\ndas Öchslein brüllte\, das Kindlein schrie\,\ndie
  heiligen drei Könige sangen.\n\n(Heinrich Heine)\n\nDas Gastgeberteam
  Melchenbühl begrüsst zum neuen Jahr und lädt - einen Tag früher als
  gewöhnlich - zum gemeinsamen Königskuchen-Essen ein. Karin Duru
  erzählt Legenden rund um drei Könige\, bzw. Sterndeuter und wagt selbst
  einen Blick in die Sterne. Stéphanie Schafer\, Sozialdiakonin im Bereich
  "Alter"\, lockert den Nachmittag mit Flötenklängen auf. \n\nKontakt:
  Karin Duru\n\nWeitere Infos: https://www.rkmg.ch/veranstaltung/13884
SUMMARY:Altersnachmittag GüMe (Melchenbühl)
PRIORITY:5
X-MICROSOFT-CDO-IMPORTANCE:1
CLASS:PUBLIC
END:VEVENT
END:VCALENDAR
