BEGIN:VCALENDAR
PRODID:-//kirchenweb.ch gmbh//veranstaltungsausgabe v2.0//DE
VERSION:2.0
METHOD:PUBLISH
BEGIN:VEVENT
DTSTART:20160110T090000Z
DTEND:20160110T100000Z
LOCATION:Kirche Muri\, Thunstrasse 98\, 3074 Muri
TRANSP:OPAQUE
SEQUENCE:0
UID:13723-veranstaltung@rkmg.ch
DTSTAMP:20160104T143847Z
DESCRIPTION:Gottesdienst «Die Kraft der Leere» (Genesis 21\, 9-21; 1.
  Könige 19\, 8). Ella de Groot; Erica Zimmermann\, Orgel. Lieder: 213\,
  1-3 ;514 ;516\, 1-5 ;182\, 1-3; 430\, 1.6.7. Kollekte: «Zukunft für
  Kinder». Mit Gebärdensprachdolmetscherin für Hörbehinderte.\n
 \nKontakt: Ella de Groot\n\nWeitere Infos:
  https://www.rkmg.ch/veranstaltung/13723
SUMMARY:Gottesdienst Muri (Ella de Groot)
PRIORITY:5
X-MICROSOFT-CDO-IMPORTANCE:1
CLASS:PUBLIC
END:VEVENT
END:VCALENDAR
